BEGIN:VCALENDAR
VERSION:2.0
PRODID:http://pfarrei-tschirn.de
BEGIN:VEVENT
UID:2f614deb-4085-11f1-a8bf-0242ac11002b-1779546600000-de
DTSTAMP:20260425T090019Z
DTSTART:20260523T143000Z
DTEND:20260523T160000Z
SUMMARY;LANGUAGE=de:Sternwallfahrt zum Kordigast
DESCRIPTION;LANGUAGE=de:Treffpunkt an der Giechkröttendorfer Kapelle
END:VEVENT
END:VCALENDAR
