BEGIN:VCALENDAR
VERSION:2.0
PRODID:http://pfarrei-tschirn.de
BEGIN:VEVENT
UID:2d9b5aa1-4085-11f1-a8bf-0242ac11002b-1779552000000-de
DTSTAMP:20260425T090016Z
DTSTART:20260523T160000Z
DTEND:20260523T170000Z
SUMMARY;LANGUAGE=de:Festgottesdienst
END:VEVENT
END:VCALENDAR
