BEGIN:VCALENDAR
VERSION:2.0
PRODID:http://pfarrei-tschirn.de
BEGIN:VEVENT
UID:2c5f9318-2da9-11f1-a8bf-0242ac11002b-1777444200000-de
DTSTAMP:20260401T090004Z
DTSTART:20260429T063000Z
DTEND:20260429T071500Z
SUMMARY;LANGUAGE=de:Eucharistiefeier
END:VEVENT
END:VCALENDAR
