BEGIN:VCALENDAR
VERSION:2.0
PRODID:http://pfarrei-tschirn.de
BEGIN:VEVENT
UID:2c4c6d1b-4085-11f1-a8bf-0242ac11002b-1779552000000-de
DTSTAMP:20260425T090014Z
DTSTART:20260523T160000Z
DTEND:20260523T170000Z
SUMMARY;LANGUAGE=de:Ökumenisches Abendgebet
END:VEVENT
END:VCALENDAR
