BEGIN:VCALENDAR
VERSION:2.0
PRODID:http://pfarrei-tschirn.de
BEGIN:VEVENT
UID:2c450b53-3bce-11f1-a8bf-0242ac11002b-1779010200000-de
DTSTAMP:20260419T090011Z
DTSTART:20260517T093000Z
DTEND:20260517T103000Z
SUMMARY;LANGUAGE=de:Taufe Nikolas Henry Müller
END:VEVENT
END:VCALENDAR
