BEGIN:VCALENDAR
VERSION:2.0
PRODID:http://pfarrei-tschirn.de
BEGIN:VEVENT
UID:2992ed41-3260-11f1-a8bf-0242ac11002b-1777964400000-de
DTSTAMP:20260407T090002Z
DTSTART:20260505T070000Z
DTEND:20260505T080000Z
SUMMARY;LANGUAGE=de:Eucharistiefeier
END:VEVENT
END:VCALENDAR
