BEGIN:VCALENDAR
VERSION:2.0
PRODID:http://pfarrei-tschirn.de
BEGIN:VEVENT
UID:2940b34f-4085-11f1-a8bf-0242ac11002b-1779512400000-de
DTSTAMP:20260425T090009Z
DTSTART:20260523T050000Z
DTEND:20260523T060000Z
SUMMARY;LANGUAGE=de:Eucharistiefeier
END:VEVENT
END:VCALENDAR
