BEGIN:VCALENDAR
VERSION:2.0
PRODID:http://pfarrei-tschirn.de
BEGIN:VEVENT
UID:2925d36b-3260-11f1-a8bf-0242ac11002b-1777959900000-de
DTSTAMP:20260407T090001Z
DTSTART:20260505T054500Z
DTEND:20260505T060000Z
SUMMARY;LANGUAGE=de:Chorgebet in lateinischer Sprache
END:VEVENT
END:VCALENDAR
