BEGIN:VCALENDAR
VERSION:2.0
PRODID:http://pfarrei-tschirn.de
BEGIN:VEVENT
UID:288d9a54-3717-11f1-a8bf-0242ac11002b-1778479200000-de
DTSTAMP:20260413T090002Z
DTSTART:20260511T060000Z
DTEND:20260511T070000Z
SUMMARY;LANGUAGE=de:Eucharistiefeier (Domkapitel)
END:VEVENT
END:VCALENDAR
