BEGIN:VCALENDAR
VERSION:2.0
PRODID:http://pfarrei-tschirn.de
BEGIN:VEVENT
UID:2833534c-3bce-11f1-a8bf-0242ac11002b-1779037200000-de
DTSTAMP:20260419T090004Z
DTSTART:20260517T170000Z
DTEND:20260517T180000Z
SUMMARY;LANGUAGE=de:Eucharistiefeier
DESCRIPTION;LANGUAGE=de:Uni-GD
END:VEVENT
END:VCALENDAR
