BEGIN:VCALENDAR
VERSION:2.0
PRODID:http://pfarrei-tschirn.de
BEGIN:VEVENT
UID:273f3de8-4085-11f1-a8bf-0242ac11002b-1779552900000-de
DTSTAMP:20260425T090005Z
DTSTART:20260523T161500Z
DTEND:20260523T171500Z
SUMMARY;LANGUAGE=de:Eucharistiefeier
END:VEVENT
END:VCALENDAR
