BEGIN:VCALENDAR
VERSION:2.0
PRODID:http://pfarrei-tschirn.de
BEGIN:VEVENT
UID:26186240-3bce-11f1-a8bf-0242ac11002b-1779008400000-de
DTSTAMP:20260419T090001Z
DTSTART:20260517T090000Z
DTEND:20260517T100000Z
SUMMARY;LANGUAGE=de:WGF - Kinder- u. Familiengottesdienst
END:VEVENT
END:VCALENDAR
