BEGIN:VCALENDAR
VERSION:2.0
PRODID:http://pfarrei-tschirn.de
BEGIN:VEVENT
UID:259cd86d-4085-11f1-a8bf-0242ac11002b-1779516000000-de
DTSTAMP:20260425T090003Z
DTSTART:20260523T060000Z
DTEND:20260523T070000Z
SUMMARY;LANGUAGE=de:Eucharistiefeier (Domkapitel)
END:VEVENT
END:VCALENDAR
