BEGIN:VCALENDAR
VERSION:2.0
PRODID:http://pfarrei-tschirn.de
BEGIN:VEVENT
UID:0b66961b-3fbc-11f1-a8bf-0242ac11002b-1779436800000-de
DTSTAMP:20260424T090030Z
DTSTART:20260522T080000Z
DTEND:20260522T090000Z
SUMMARY;LANGUAGE=de:Hl. Messe im ASB-Seniorenheim
END:VEVENT
END:VCALENDAR
