BEGIN:VCALENDAR
VERSION:2.0
PRODID:http://pfarrei-tschirn.de
BEGIN:VEVENT
UID:0b27cf9a-36a8-11f1-a8bf-0242ac11002b-1778342400000-de
DTSTAMP:20260412T194439Z
DTSTART:20260509T160000Z
DTEND:20260509T170000Z
SUMMARY;LANGUAGE=de:Eucharistiefeier
DESCRIPTION;LANGUAGE=de:als Dankgottesdienst für die ausgeschiedenen PGR- und KV-Mitglieder
END:VEVENT
END:VCALENDAR
