BEGIN:VCALENDAR
VERSION:2.0
PRODID:http://pfarrei-tschirn.de
BEGIN:VEVENT
UID:0a941aff-36a8-11f1-a8bf-0242ac11002b-1777186800000-de
DTSTAMP:20260412T194438Z
DTSTART:20260426T070000Z
DTEND:20260426T080000Z
SUMMARY;LANGUAGE=de:Eucharistiefeier
END:VEVENT
END:VCALENDAR
