BEGIN:VCALENDAR
VERSION:2.0
PRODID:http://pfarrei-tschirn.de
BEGIN:VEVENT
UID:0a2ccd9a-36a8-11f1-a8bf-0242ac11002b-1778169600000-de
DTSTAMP:20260412T194437Z
DTSTART:20260507T160000Z
DTEND:20260507T170000Z
SUMMARY;LANGUAGE=de:Eucharistiefeier
DESCRIPTION;LANGUAGE=de:anschl. Anbetung
END:VEVENT
END:VCALENDAR
