BEGIN:VCALENDAR
VERSION:2.0
PRODID:http://pfarrei-tschirn.de
BEGIN:VEVENT
UID:0a221237-364e-11f1-a8bf-0242ac11002b-1778396400000-de
DTSTAMP:20260412T090023Z
DTSTART:20260510T070000Z
DTEND:20260510T080000Z
SUMMARY;LANGUAGE=de:Eucharistiefeier
DESCRIPTION;LANGUAGE=de:an der Feldkapelle (ohne Bittgang) anschließend Einkehr beim Schimmelhof.
END:VEVENT
END:VCALENDAR
