BEGIN:VCALENDAR
VERSION:2.0
PRODID:http://pfarrei-tschirn.de
BEGIN:VEVENT
UID:09ef50b5-3b05-11f1-a8bf-0242ac11002b-1778932800000-de
DTSTAMP:20260418T090025Z
DTSTART:20260516T120000Z
DTEND:20260516T130000Z
SUMMARY;LANGUAGE=de:Taufe des Kindes Ida Grebner
END:VEVENT
END:VCALENDAR
