BEGIN:VCALENDAR
VERSION:2.0
PRODID:http://pfarrei-tschirn.de
BEGIN:VEVENT
UID:093b7970-3fbc-11f1-a8bf-0242ac11002b-1779467400000-de
DTSTAMP:20260424T090026Z
DTSTART:20260522T163000Z
DTEND:20260522T173000Z
SUMMARY;LANGUAGE=de:Ökuemenischer Gottesdienst zu Pfingsten
DESCRIPTION;LANGUAGE=de:anschl. gemütliches Beisammensein im Pfarrgarten
END:VEVENT
END:VCALENDAR
