BEGIN:VCALENDAR
VERSION:2.0
PRODID:http://pfarrei-tschirn.de
BEGIN:VEVENT
UID:0896add9-3fbc-11f1-a8bf-0242ac11002b-1779454800000-de
DTSTAMP:20260424T090025Z
DTSTART:20260522T130000Z
DTEND:20260522T133000Z
SUMMARY;LANGUAGE=de:Barmherzigkeitsrosenkranz
END:VEVENT
END:VCALENDAR
