BEGIN:VCALENDAR
VERSION:2.0
PRODID:http://pfarrei-tschirn.de
BEGIN:VEVENT
UID:07cb6008-3b05-11f1-a8bf-0242ac11002b-1778947200000-de
DTSTAMP:20260418T090021Z
DTSTART:20260516T160000Z
DTEND:20260516T170000Z
SUMMARY;LANGUAGE=de:Eucharistiefeier
DESCRIPTION;LANGUAGE=de:f. d. Pfarrgemeinde
END:VEVENT
END:VCALENDAR
