BEGIN:VCALENDAR
VERSION:2.0
PRODID:http://pfarrei-tschirn.de
BEGIN:VEVENT
UID:078ff656-364e-11f1-a8bf-0242ac11002b-1778394600000-de
DTSTAMP:20260412T090018Z
DTSTART:20260510T063000Z
DTEND:20260510T073000Z
SUMMARY;LANGUAGE=de:Hl. Messe zum Kirchweihfest
END:VEVENT
END:VCALENDAR
