BEGIN:VCALENDAR
VERSION:2.0
PRODID:http://pfarrei-tschirn.de
BEGIN:VEVENT
UID:078db966-36a8-11f1-a8bf-0242ac11002b-1778401800000-de
DTSTAMP:20260412T194433Z
DTSTART:20260510T083000Z
DTEND:20260510T093000Z
SUMMARY;LANGUAGE=de:Eucharistiefeier (Live-Stream)
DESCRIPTION;LANGUAGE=de:Verabschiedung der ausgeschiedenen PGR-Mitglieder. Einführung der neu gewählten PGR-Mitglieder
END:VEVENT
END:VCALENDAR
