BEGIN:VCALENDAR
VERSION:2.0
PRODID:http://pfarrei-tschirn.de
BEGIN:VEVENT
UID:07892232-2ce0-11f1-a15b-0242ac11002b-1777352400000-de
DTSTAMP:20260331T090013Z
DTSTART:20260428T050000Z
DTEND:20260428T060000Z
SUMMARY;LANGUAGE=de:Eucharistiefeier
END:VEVENT
END:VCALENDAR
