BEGIN:VCALENDAR
VERSION:2.0
PRODID:http://pfarrei-tschirn.de
BEGIN:VEVENT
UID:0775dea0-364e-11f1-a8bf-0242ac11002b-1778410800000-de
DTSTAMP:20260412T090018Z
DTSTART:20260510T110000Z
DTEND:20260510T130000Z
SUMMARY;LANGUAGE=de:Hl. Messe zum Kirchweihfest
DESCRIPTION;LANGUAGE=de:anschl. Kaffee u. Kuchen
END:VEVENT
END:VCALENDAR
