BEGIN:VCALENDAR
VERSION:2.0
PRODID:http://pfarrei-tschirn.de
BEGIN:VEVENT
UID:074865ea-364e-11f1-a8bf-0242ac11002b-1778414400000-de
DTSTAMP:20260412T090018Z
DTSTART:20260510T120000Z
DTEND:20260510T130000Z
SUMMARY;LANGUAGE=de:Maiandacht, gestaltet vom Frauenkreis
DESCRIPTION;LANGUAGE=de:anschl. Kaffee & Kuchen in der "Villa"
END:VEVENT
END:VCALENDAR
