BEGIN:VCALENDAR
VERSION:2.0
PRODID:http://pfarrei-tschirn.de
BEGIN:VEVENT
UID:0713de1d-3fbc-11f1-a8bf-0242ac11002b-1779462000000-de
DTSTAMP:20260424T090023Z
DTSTART:20260522T150000Z
DTEND:20260522T153000Z
SUMMARY;LANGUAGE=de:Rosenkranzgebet
DESCRIPTION;LANGUAGE=de:für den Frieden
END:VEVENT
END:VCALENDAR
