BEGIN:VCALENDAR
VERSION:2.0
PRODID:http://pfarrei-tschirn.de
BEGIN:VEVENT
UID:06fe0c2a-3fbc-11f1-a8bf-0242ac11002b-1779454800000-de
DTSTAMP:20260424T090022Z
DTSTART:20260522T130000Z
DTEND:20260522T140000Z
SUMMARY;LANGUAGE=de:Eucharistiefeier
DESCRIPTION;LANGUAGE=de:im Seniorenheim St. Kilian Hallstadt
END:VEVENT
END:VCALENDAR
