BEGIN:VCALENDAR
VERSION:2.0
PRODID:http://pfarrei-tschirn.de
BEGIN:VEVENT
UID:06d51466-2ce0-11f1-a15b-0242ac11002b-1777392000000-de
DTSTAMP:20260331T090012Z
DTSTART:20260428T160000Z
DTEND:20260428T163000Z
SUMMARY;LANGUAGE=de:Eucharistiefeier
END:VEVENT
END:VCALENDAR
