BEGIN:VCALENDAR
VERSION:2.0
PRODID:http://pfarrei-tschirn.de
BEGIN:VEVENT
UID:068f0dec-36a8-11f1-a8bf-0242ac11002b-1778054400000-de
DTSTAMP:20260412T194431Z
DTSTART:20260506T080000Z
DTEND:20260506T090000Z
SUMMARY;LANGUAGE=de:Eucharistiefeier
END:VEVENT
END:VCALENDAR
