BEGIN:VCALENDAR
VERSION:2.0
PRODID:http://pfarrei-tschirn.de
BEGIN:VEVENT
UID:05f45151-2ce0-11f1-a15b-0242ac11002b-1777389600000-de
DTSTAMP:20260331T090010Z
DTSTART:20260428T152000Z
DTEND:20260428T160000Z
SUMMARY;LANGUAGE=de:Rosenkranz um geistliche Berufe
END:VEVENT
END:VCALENDAR
