BEGIN:VCALENDAR
VERSION:2.0
PRODID:http://pfarrei-tschirn.de
BEGIN:VEVENT
UID:0441c22c-36a8-11f1-a8bf-0242ac11002b-1778308200000-de
DTSTAMP:20260412T194427Z
DTSTART:20260509T063000Z
DTEND:20260509T073000Z
SUMMARY;LANGUAGE=de:Beichtgelegenheit
END:VEVENT
END:VCALENDAR
