BEGIN:VCALENDAR
VERSION:2.0
PRODID:http://pfarrei-tschirn.de
BEGIN:VEVENT
UID:03302c6d-3b05-11f1-a8bf-0242ac11002b-1778929200000-de
DTSTAMP:20260418T090013Z
DTSTART:20260516T110000Z
DTEND:20260516T130000Z
SUMMARY;LANGUAGE=de:Beichte für die Firmlinge aus Pettstadt, Reundorf und Vorra
END:VEVENT
END:VCALENDAR
