BEGIN:VCALENDAR
VERSION:2.0
PRODID:http://pfarrei-tschirn.de
BEGIN:VEVENT
UID:031534b0-3197-11f1-a8bf-0242ac11002b-1777878000000-de
DTSTAMP:20260406T090008Z
DTSTART:20260504T070000Z
DTEND:20260504T080000Z
SUMMARY;LANGUAGE=de:Dankgottesdienst der Erstkommunionkinder
END:VEVENT
END:VCALENDAR
