BEGIN:VCALENDAR
VERSION:2.0
PRODID:http://pfarrei-tschirn.de
BEGIN:VEVENT
UID:024e0831-36a8-11f1-a8bf-0242ac11002b-1777797000000-de
DTSTAMP:20260412T194424Z
DTSTART:20260503T083000Z
DTEND:20260503T093000Z
SUMMARY;LANGUAGE=de:Eucharistiefeier
DESCRIPTION;LANGUAGE=de:f. d. Pfarrgemeinde
END:VEVENT
END:VCALENDAR
