BEGIN:VCALENDAR
VERSION:2.0
PRODID:http://pfarrei-tschirn.de
BEGIN:VEVENT
UID:01cc48df-364e-11f1-a8bf-0242ac11002b-1778400000000-de
DTSTAMP:20260412T090009Z
DTSTART:20260510T080000Z
DTEND:20260510T090000Z
SUMMARY;LANGUAGE=de:Feier der Erstkommunion "Jesus, unsere Mitte"
DESCRIPTION;LANGUAGE=de:musikalisch gestaltet von der Band "Heylight"
END:VEVENT
END:VCALENDAR
