BEGIN:VCALENDAR
VERSION:2.0
PRODID:http://pfarrei-tschirn.de
BEGIN:VEVENT
UID:016a82fe-2ce0-11f1-a15b-0242ac11002b-1777356000000-de
DTSTAMP:20260331T090003Z
DTSTART:20260428T060000Z
DTEND:20260428T070000Z
SUMMARY;LANGUAGE=de:Eucharistiefeier (Domkapitel)
END:VEVENT
END:VCALENDAR
