BEGIN:VCALENDAR
VERSION:2.0
PRODID:http://pfarrei-tschirn.de
BEGIN:VEVENT
UID:00db1438-2ce0-11f1-a15b-0242ac11002b-1777355100000-de
DTSTAMP:20260331T090002Z
DTSTART:20260428T054500Z
DTEND:20260428T060000Z
SUMMARY;LANGUAGE=de:Chorgebet in lateinischer Sprache
END:VEVENT
END:VCALENDAR
